BEGIN:VCALENDAR
VERSION:2.0
PRODID:-//Loves Farm WI - ECPv6.15.20//NONSGML v1.0//EN
CALSCALE:GREGORIAN
METHOD:PUBLISH
X-WR-CALNAME:Loves Farm WI
X-ORIGINAL-URL:https://lovesfarmladieswi.co.uk
X-WR-CALDESC:Events for Loves Farm WI
REFRESH-INTERVAL;VALUE=DURATION:PT1H
X-Robots-Tag:noindex
X-PUBLISHED-TTL:PT1H
BEGIN:VTIMEZONE
TZID:Europe/London
BEGIN:DAYLIGHT
TZOFFSETFROM:+0000
TZOFFSETTO:+0100
TZNAME:BST
DTSTART:20240331T010000
END:DAYLIGHT
BEGIN:STANDARD
TZOFFSETFROM:+0100
TZOFFSETTO:+0000
TZNAME:GMT
DTSTART:20241027T010000
END:STANDARD
BEGIN:DAYLIGHT
TZOFFSETFROM:+0000
TZOFFSETTO:+0100
TZNAME:BST
DTSTART:20250330T010000
END:DAYLIGHT
BEGIN:STANDARD
TZOFFSETFROM:+0100
TZOFFSETTO:+0000
TZNAME:GMT
DTSTART:20251026T010000
END:STANDARD
BEGIN:DAYLIGHT
TZOFFSETFROM:+0000
TZOFFSETTO:+0100
TZNAME:BST
DTSTART:20260329T010000
END:DAYLIGHT
BEGIN:STANDARD
TZOFFSETFROM:+0100
TZOFFSETTO:+0000
TZNAME:GMT
DTSTART:20261025T010000
END:STANDARD
END:VTIMEZONE
BEGIN:VEVENT
DTSTART;TZID=Europe/London:20250515T193000
DTEND;TZID=Europe/London:20250515T220000
DTSTAMP:20260422T150045
CREATED:20250105T163942Z
LAST-MODIFIED:20250319T152200Z
UID:146-1747337400-1747346400@lovesfarmladieswi.co.uk
SUMMARY:The work of Magistrates' Courts
DESCRIPTION:The work of Magistrates’ Courts with Geoff Watts
URL:https://lovesfarmladieswi.co.uk/event/the-work-of-magistrates-courts/
LOCATION:The Church Rooms\, St Neots Parish Church\, St Neots\, PE19 2BU\, The Church Rooms\, PE19 2BU
END:VEVENT
BEGIN:VEVENT
DTSTART;TZID=Europe/London:20250417T193000
DTEND;TZID=Europe/London:20250417T220000
DTSTAMP:20260422T150045
CREATED:20250105T163806Z
LAST-MODIFIED:20250319T152230Z
UID:144-1744918200-1744927200@lovesfarmladieswi.co.uk
SUMMARY:The Angels Foundation
DESCRIPTION:The Angels Foundation
URL:https://lovesfarmladieswi.co.uk/event/the-angels-foundation/
LOCATION:The Church Rooms\, St Neots Parish Church\, St Neots\, PE19 2BU\, The Church Rooms\, PE19 2BU
END:VEVENT
BEGIN:VEVENT
DTSTART;TZID=Europe/London:20250320T193000
DTEND;TZID=Europe/London:20250320T220000
DTSTAMP:20260422T150045
CREATED:20250105T163715Z
LAST-MODIFIED:20250319T152336Z
UID:142-1742499000-1742508000@lovesfarmladieswi.co.uk
SUMMARY:Annual General Meeting
DESCRIPTION:The Pightle nature reserve\, Eaton Socon with Peter Bradford.
URL:https://lovesfarmladieswi.co.uk/event/annual-general-meeting/
LOCATION:The Church Rooms\, St Neots Parish Church\, St Neots\, PE19 2BU\, The Church Rooms\, PE19 2BU
END:VEVENT
BEGIN:VEVENT
DTSTART;TZID=Europe/London:20250220T193000
DTEND;TZID=Europe/London:20250220T220000
DTSTAMP:20260422T150045
CREATED:20250102T191316Z
LAST-MODIFIED:20250105T163453Z
UID:71-1740079800-1740088800@lovesfarmladieswi.co.uk
SUMMARY:Dance Fitness
DESCRIPTION:Lynne Otto – a community dance fitness instructor with a passion for bringing fun to fitness.
URL:https://lovesfarmladieswi.co.uk/event/test-event/
LOCATION:St Neots Town Football Club\, Kester Way\, St Neots\, Cambs\, PE19 6SL\, United Kingdom
END:VEVENT
BEGIN:VEVENT
DTSTART;TZID=Europe/London:20250116T193000
DTEND;TZID=Europe/London:20250116T220000
DTSTAMP:20260422T150045
CREATED:20250105T163136Z
LAST-MODIFIED:20250105T163136Z
UID:138-1737055800-1737064800@lovesfarmladieswi.co.uk
SUMMARY:Paper Craft
DESCRIPTION:Making Victorian Puzzle Purses
URL:https://lovesfarmladieswi.co.uk/event/paper-craft/
LOCATION:St Neots Town Football Club\, Kester Way\, St Neots\, Cambs\, PE19 6SL\, United Kingdom
END:VEVENT
END:VCALENDAR